BEGIN:VCALENDAR
PRODID:-//Mozilla.org/NONSGML Mozilla Calendar V1.1//EN
VERSION:2.0
BEGIN:VEVENT
UID:69e8a80388c1f
DTSTAMP:20260422T105043Z
DTSTART:20260813T100000Z
DTEND:20260814T100000Z
SUMMARY:Demo calendar event for Lookatmedia™ centre
DESCRIPTION:Demo calendar event for Lookatmedia™ centre 'save the date' feature
END:VEVENT
END:VCALENDAR